BEGIN:VCALENDAR
VERSION:2.0
PRODID:-//192.185.41.233//NONSGML kigkonsult.se iCalcreator 2.26.9//
CALSCALE:GREGORIAN
METHOD:PUBLISH
X-FROM-URL:https://wrrrc.org
X-WR-TIMEZONE:America/Toronto
BEGIN:VTIMEZONE
TZID:America/Toronto
X-LIC-LOCATION:America/Toronto
BEGIN:STANDARD
DTSTART:20251102T020000
TZOFFSETFROM:-0400
TZOFFSETTO:-0500
RDATE:20261101T020000
TZNAME:EST
END:STANDARD
BEGIN:DAYLIGHT
DTSTART:20260308T020000
TZOFFSETFROM:-0500
TZOFFSETTO:-0400
RDATE:20270314T020000
TZNAME:EDT
END:DAYLIGHT
END:VTIMEZONE
BEGIN:VEVENT
UID:ai1ec-72@wrrrc.org
DTSTAMP:20260423T135307Z
CATEGORIES:
CONTACT:
DESCRIPTION:
DTSTART;TZID=America/Toronto:20230423T100000
DTEND;TZID=America/Toronto:20230423T111500
RRULE:FREQ=WEEKLY;BYDAY=SU;WKST=SU
SEQUENCE:0
SUMMARY:AM worship
URL:https://wrrrc.org/event/morning-worship/
X-COST-TYPE:free
END:VEVENT
BEGIN:VEVENT
UID:ai1ec-73@wrrrc.org
DTSTAMP:20260423T135307Z
CATEGORIES:
CONTACT:
DESCRIPTION:
DTSTART;TZID=America/Toronto:20230423T140000
DTEND;TZID=America/Toronto:20230423T151500
RRULE:FREQ=WEEKLY;BYDAY=SU;WKST=SU
SEQUENCE:0
SUMMARY:PM worship
URL:https://wrrrc.org/event/afternoon-service/
X-COST-TYPE:free
END:VEVENT
BEGIN:VEVENT
UID:ai1ec-590@wrrrc.org
DTSTAMP:20260423T135307Z
CATEGORIES:
CONTACT:
DESCRIPTION:<p>A combination of in-person meetings at various members’ home
 s or online via Zoom</p>
DTSTART;TZID=America/Toronto:20230426T193000
DTEND;TZID=America/Toronto:20230426T210000
LOCATION:Online Zoom
RRULE:FREQ=WEEKLY;BYDAY=WE;WKST=SU
SEQUENCE:0
SUMMARY:Mid-week Prayer meeting
URL:https://wrrrc.org/event/mid-week-bible-study/
X-COST-TYPE:free
END:VEVENT
BEGIN:VEVENT
UID:ai1ec-62221@wrrrc.org
DTSTAMP:20260423T135307Z
CATEGORIES:
CONTACT:
DESCRIPTION:<p>Enjoy singing some familiar Christmas songs\, hearing Bible 
 readings and poems.</p>\n<p>After\, refreshments will be served.</p>
DTSTART;TZID=America/Toronto:20231217T180000
DTEND;TZID=America/Toronto:20231217T190000
SEQUENCE:0
SUMMARY:Christmas Caroling/Program
URL:https://wrrrc.org/event/christmas-caroling-program/
X-COST-TYPE:free
END:VEVENT
BEGIN:VEVENT
UID:ai1ec-62238@wrrrc.org
DTSTAMP:20260423T135307Z
CATEGORIES:
CONTACT:
DESCRIPTION:
DTSTART;TZID=America/Toronto:20231231T100000
DTEND;TZID=America/Toronto:20231231T113000
RRULE:FREQ=WEEKLY
SEQUENCE:0
SUMMARY:Morning Worship
URL:https://wrrrc.org/event/morning-worship-2/
X-COST-TYPE:free
END:VEVENT
BEGIN:VEVENT
UID:ai1ec-62239@wrrrc.org
DTSTAMP:20260423T135307Z
CATEGORIES:
CONTACT:
DESCRIPTION:
DTSTART;TZID=America/Toronto:20231231T140000
DTEND;TZID=America/Toronto:20231231T153000
RRULE:FREQ=WEEKLY
SEQUENCE:0
SUMMARY:Afternoon Worship
URL:https://wrrrc.org/event/afternoon-worship/
X-COST-TYPE:free
END:VEVENT
BEGIN:VEVENT
UID:ai1ec-62234@wrrrc.org
DTSTAMP:20260423T135307Z
CATEGORIES:
CONTACT:
DESCRIPTION:
DTSTART;TZID=America/Toronto:20240329T100000
DTEND;TZID=America/Toronto:20240329T110000
SEQUENCE:0
SUMMARY:Good Friday informal service
URL:https://wrrrc.org/event/good-friday-informal-service/
X-COST-TYPE:free
END:VEVENT
BEGIN:VEVENT
UID:ai1ec-62235@wrrrc.org
DTSTAMP:20260423T135307Z
CATEGORIES:
CONTACT:https://ltrbc.ca/
DESCRIPTION:<div class='fl-col-group fl-node-5a5aedaccf936' data-node='5a5a
 edaccf936'>\n<div class='fl-col fl-node-5a5aedaccfb66 fl-col-has-cols' dat
 a-node='5a5aedaccfb66'>\n<div class='fl-col-content fl-node-content'>\n<di
 v class='fl-module fl-module-rich-text fl-node-5a5aeddc3fa96' data-node='5
 a5aeddc3fa96'>\n<div class='fl-module-content fl-node-content'>\n<div clas
 s='fl-rich-text'>\n<h3 class='title left nomargin-left'>Living Truth Refor
 med Bible Conference</h3>\n<h3 class='title left nomargin-left'>Theme: The
  Attributes of God<br />\nSpeaker: Dr. Chad Van Dixhoorn<br />\n<strong st
 yle='font-size: 16px\;'>Session 1 – Friday:  </strong><span style='font-si
 ze: 16px\;'>1 Cor. 1:18-31 The Witness of 1 Corinthians 1 to the Wisdom an
 d Power of God<br />\n</span><strong style='font-size: 16px\;'>Session 2 –
  Saturday:  </strong><span style='font-size: 16px\;'>The Westminster Assem
 bly and the Reformation of Worship</span></h3>\n</div>\n</div>\n</div>\n</
 div>\n</div>\n</div>
DTSTART;TZID=America/Toronto:20240412T193000
DTEND;TZID=America/Toronto:20240412T210000
LOCATION:Providence Free Reformed Church @ 269 St. George Rd.\, St. Gerorge
SEQUENCE:0
SUMMARY:Bible Conference
URL:https://wrrrc.org/event/living-truth-reformed-bible-conference/
X-COST-TYPE:free
END:VEVENT
BEGIN:VEVENT
UID:ai1ec-62236@wrrrc.org
DTSTAMP:20260423T135307Z
CATEGORIES:
CONTACT:https://ltrbc.ca/
DESCRIPTION:<h3 class='title left nomargin-left'>Theme: The Attributes of G
 od<br />\nSpeaker: Dr. Chad Van Dixhoorn<br />\n<strong style='font-size: 
 16px\;'>Session 1 – Friday:  </strong><span style='font-size: 16px\;'>1 Co
 r. 1:18-31 The Witness of 1 Corinthians 1 to the Wisdom and Power of God<b
 r />\n</span><strong style='font-size: 16px\;'>Session 2 – Saturday:  </st
 rong><span style='font-size: 16px\;'>The Westminster Assembly and the Refo
 rmation of Worship</span></h3>
DTSTART;TZID=America/Toronto:20240413T093000
DTEND;TZID=America/Toronto:20240413T110000
LOCATION:Providence Free Reformed Church @ 269 St George Rd\, Saint George\
 ,
SEQUENCE:0
SUMMARY:Bible Conference
URL:https://wrrrc.org/event/living-truth-reformed-bible-conference-2/
X-COST-TYPE:free
END:VEVENT
BEGIN:VEVENT
UID:ai1ec-62260@wrrrc.org
DTSTAMP:20260423T135307Z
CATEGORIES:
CONTACT:
DESCRIPTION:<p>A simple toast\, bacon and eggs meal followed by a meaningfu
 l\, Christian life meditation and discussion.<br />\nYoung men and our Sun
 day visitors are encouraged to join in this.</p>
DTSTART;TZID=America/Toronto:20241214T090000
DTEND;TZID=America/Toronto:20241214T110000
SEQUENCE:0
SUMMARY:Men’s breakfast
URL:https://wrrrc.org/event/mens-breakfast-2/
X-COST-TYPE:free
END:VEVENT
BEGIN:VEVENT
UID:ai1ec-62261@wrrrc.org
DTSTAMP:20260423T135307Z
CATEGORIES:
CONTACT:
DESCRIPTION:
DTSTART;TZID=America/Toronto:20241216T190000
DTEND;TZID=America/Toronto:20241216T210000
SEQUENCE:0
SUMMARY:Funeral visitation – J. Gazendam
URL:https://wrrrc.org/event/funeral-visitation-j-gazendam/
X-COST-TYPE:free
END:VEVENT
BEGIN:VEVENT
UID:ai1ec-62262@wrrrc.org
DTSTAMP:20260423T135307Z
CATEGORIES:
CONTACT:
DESCRIPTION:
DTSTART;TZID=America/Toronto:20241217T130000
DTEND;TZID=America/Toronto:20241217T143000
SEQUENCE:0
SUMMARY:Memorial Service – J. Gazendam
URL:https://wrrrc.org/event/memorial-service-j-gazendam/
X-COST-TYPE:free
END:VEVENT
BEGIN:VEVENT
UID:ai1ec-62250@wrrrc.org
DTSTAMP:20260423T135307Z
CATEGORIES:
CONTACT:
DESCRIPTION:<p>Bring\, to share\, a main course and dessert\, enough for yo
 urself and a bit more. Refreshment beverages are served. Come and get to k
 now your neighbours!</p>
DTSTART;TZID=America/Toronto:20241222T161500
DTEND;TZID=America/Toronto:20241222T171500
SEQUENCE:0
SUMMARY:Potluck Supper
URL:https://wrrrc.org/event/potluck-supper/
X-COST-TYPE:free
END:VEVENT
BEGIN:VEVENT
UID:ai1ec-62257@wrrrc.org
DTSTAMP:20260423T135307Z
CATEGORIES:
CONTACT:
DESCRIPTION:<p>Our modest program’s theme is “He Is Our Redeemer”. Lasting 
 about 1 hour\, it features carol singing\, scripture readings\, and some s
 ongs by a small choir.</p>
DTSTART;TZID=America/Toronto:20241222T180000
DTEND;TZID=America/Toronto:20241222T190000
SEQUENCE:0
SUMMARY:Christmas Program
URL:https://wrrrc.org/event/christmas-program/
X-COST-TYPE:free
END:VEVENT
BEGIN:VEVENT
UID:ai1ec-62263@wrrrc.org
DTSTAMP:20260423T135307Z
CATEGORIES:
CONTACT:
DESCRIPTION:
DTSTART;TZID=America/Toronto:20241225T200000
DTEND;TZID=America/Toronto:20241225T210000
SEQUENCE:0
SUMMARY:CANCELLED
URL:https://wrrrc.org/event/cancelled/
X-COST-TYPE:free
END:VEVENT
BEGIN:VEVENT
UID:ai1ec-62264@wrrrc.org
DTSTAMP:20260423T135307Z
CATEGORIES:
CONTACT:
DESCRIPTION:
DTSTART;TZID=America/Toronto:20250101T200000
DTEND;TZID=America/Toronto:20250101T210000
SEQUENCE:0
SUMMARY:CANCELLED
URL:https://wrrrc.org/event/cancelled-2/
X-COST-TYPE:free
END:VEVENT
BEGIN:VEVENT
UID:ai1ec-62258@wrrrc.org
DTSTAMP:20260423T135307Z
CATEGORIES:
CONTACT:
DESCRIPTION:<p>Our annual men-prepared and served meal\, for all the congre
 gation to enjoy\, especially our caring mothers and meal-preparers and as 
 well as our seniors.</p>
DTSTART;TZID=America/Toronto:20250118T130000
DTEND;TZID=America/Toronto:20250118T150000
SEQUENCE:0
SUMMARY:Congregation lunch
URL:https://wrrrc.org/event/congregation-lunch/
X-COST-TYPE:free
END:VEVENT
END:VCALENDAR
